BEGIN:VCALENDAR
VERSION:2.0
PRODID:icalendar-ruby
CALSCALE:GREGORIAN
METHOD:PUBLISH
BEGIN:VEVENT
DTSTAMP:20260425T163751Z
UID:199-3468289@odbaptist.com
DTSTART:20260730T000000Z
DTEND:20260730T010000Z
CLASS:PUBLIC
CREATED:20260425T111153
DESCRIPTION:
LAST-MODIFIED:20260425T111153
LOCATION:
SUMMARY:Thrive Youth Group
URL;VALUE=URI:https://www.odbaptist.com/events/thrive-youth-group/2026-07-2
 9
ATTACH;FILENAME=YG Nights.jpg;FMTTYPE=image/jpeg:https://dq5pwpg1q8ru0.clou
 dfront.net/2025/11/20/19/10/35/594d8ce7-f005-4f19-9f0f-917285fd3fdc/YG%20N
 ights.jpg
END:VEVENT
END:VCALENDAR
