BEGIN:VCALENDAR
VERSION:2.0
PRODID:icalendar-ruby
CALSCALE:GREGORIAN
METHOD:PUBLISH
BEGIN:VEVENT
DTSTAMP:20260425T201812Z
UID:199-3470205@odbaptist.com
DTSTART:20260813T000000Z
DTEND:20260813T010000Z
CLASS:PUBLIC
CREATED:20260425T135206
DESCRIPTION:
LAST-MODIFIED:20260425T135206
LOCATION:
SUMMARY:Thrive Youth Group
URL;VALUE=URI:https://www.odbaptist.com/events/thrive-youth-group/2026-08-1
 2
ATTACH;FILENAME=YG Nights.jpg;FMTTYPE=image/jpeg:https://dq5pwpg1q8ru0.clou
 dfront.net/2025/11/20/19/10/35/594d8ce7-f005-4f19-9f0f-917285fd3fdc/YG%20N
 ights.jpg
END:VEVENT
END:VCALENDAR
