BEGIN:VCALENDAR
VERSION:2.0
PRODID:icalendar-ruby
CALSCALE:GREGORIAN
METHOD:PUBLISH
BEGIN:VEVENT
DTSTAMP:20260426T030116Z
UID:199-3474036@odbaptist.com
DTSTART:20260903T000000Z
DTEND:20260903T010000Z
CLASS:PUBLIC
CREATED:20260425T191720
DESCRIPTION:
LAST-MODIFIED:20260425T191720
LOCATION:
SUMMARY:Thrive Youth Group
URL;VALUE=URI:https://www.odbaptist.com/events/thrive-youth-group/2026-09-0
 2
ATTACH;FILENAME=YG Nights.jpg;FMTTYPE=image/jpeg:https://dq5pwpg1q8ru0.clou
 dfront.net/2025/11/20/19/10/35/594d8ce7-f005-4f19-9f0f-917285fd3fdc/YG%20N
 ights.jpg
END:VEVENT
END:VCALENDAR
